Workbook

Sheet Guide d'utilisation
A1: Importer des utlisateures dans le SII NG
A3: L’importation des utilisateurs pour SII NG permet de configurer un grand nombre d’utilisateurs via le mécanisme d’importation.
A5: Suivez les instructions aussi précisément que possible, sinon l’importation peut échouer.
A6: En cas de questions, adressez-vous à ies.ng@babs.admin.ch
A9: Déroulement général
A10: Initialisez le fichier d’importation avant chaque processus d’importation avec les informations actuellement valides.
A11: Saisissez vos modifications dans l’onglet « Saisie des données ».
A12: Copiez l’onglet « Importation des utilisateurs » conformément aux instructions ci-dessous et enregistrez le fichier CSV. Important : supprimez les lignes vides dans ce nouveau fichier.
A13: Importez les utilisateurs dans IES-NG via l’interface d’importation.
A14: Vérifiez les éventuelles erreurs dans l’importation et les modifications apportées aux utilisateurs.
A17: Limitation
A18: Les rôles des utilisateurs peuvent être modifiés via le mécanisme d’importation avec ce fichier uniquement dans une organisation.
... A31: Les colonnes marquées en rouge doivent au minimum être remplies : nom, prénom, identité, organisation
A32: Nom, prénom | B32: Nom juridique et prénom de la personne. Les éventuels prénoms multiples ne doivent pas être saisis.
A33: Identité | B33: Cet utilisateur s’identifie avec cette adresse e-mail, p. ex. via AGOV. Plusieurs identités peuvent être saisies en les séparant par |.
A34: UserID | B34: Si l’utilisateur de la ligne actuelle peut être identifié à l’aide de l’identité parmi les utilisateurs déjà saisis, l’UserID est affiché ici. S’il manque, aucun rôle ne peut être supprimé
A35: E-mail, numéro de téléphone, numéro de mobile | B35: L’e-mail de l’identité ne doit pas être saisi à nouveau. Plusieurs e-mails, numéros de téléphone et numéros de mobile peuvent être saisis en les séparant par |.
A36: Suppression | B36: Actuellement non implémenté
A37: Organisation | B37: L’utilisateur est attribué à cette organisation et les droits sont saisis pour cette organisation.
A38: Fonction 1, Fonction 2, Fonction 3, Fonction 4, Fonction 5 | B38: Rôles qui sont attribués à l’utilisateur. Tant que le contenu de la cellule n’est pas vide, l’autorisation est définie.
I40: 1 | L40: 2 | O40: 3
A43: Die Exportdatei vorbereiten
A44: 1 Sélectionnez l’onglet « Benutzerimport » en bas dans Excel avec le bouton droit de la souris et sélectionnez « Déplacer ou copier ».
A46: 2 Dans la boîte de dialogue qui apparaît, sélectionnez « Vers le classeur : (Nouveau classeur) » et « Créer une copie ».
A47: En confirmant avec « OK », un nouveau fichier Excel est ouvert.
A49: 3 Supprimez toutes les lignes vides dans ce fichier.
A50: Enregistrez ce fichier comme fichier CSV sur votre système de fichiers. Sélectionnez parmi les formats de fichier « CSV (séparateur : point-virgule) (*.csv) ».
A58: Importation
A59: Sélectionnez la fonctionnalité d’importation dans IES NG. Appuyez en haut à droite sur « Import » et sélectionnez « Utilisateurs ».
A60: Dans la boîte de dialogue, sélectionnez votre fichier d’importation que vous avez enregistré sur le système de fichiers à l’étape précédente. Confirmez le message et appuyez sur « Importer ».
A62: Contrôle de l’importation
A63: Toutes vos actions d’importation apparaissent dans le tableau. Sélectionnez l’action que vous venez d’exécuter afin d’obtenir un statut actuel.
A64: Attention : le statut dans le tableau ne s’actualise pas automatiquement !
... A71: Vérifiez maintenant vos modifications dans la configuration des utilisateurs.

Sheet Export organisations
A1: externereferenz | B1: namede

Sheet Export Utilisateurs
A1: UserId | B1: Benutzerstatus | C1: Nachname | D1: Vorname | E1: Organisationen | F1: Rollenzuweisungen | G1: Identitaeten | H1: Emails | I1: Telefonnummern | J1: Mobilenummern | K1: Loeschen

Sheet Saisie des données
A1: Nom | B1: Prénom | C1: Identidé (adresse email Login) | D1: Clé utilisateur | E1: Emails | F1: N° téléphone | G1: N°portable | H1: Suppimer | I1: Organisation | J1: Fonction 1 | K1: Fonction 2 | L1: Fonction 3 | M1: Fonction 4 | N1: Fonction 5
D4: =IF(Tabelle1[[#This Row],[Identidé (adresse email Login)]]<>"",_xlfn.XLOOKUP("*"&Tabelle1[[#This Row],[Identidé (adresse email Login)]]&"*",'Export Utilisateurs'!$G$2:$G$9987,'Export Utilisateurs'!$A$2:$A$9987,"",2,1),"")
D5: =IF(Tabelle1[[#This Row],[Identidé (adresse email Login)]]<>"",_xlfn.XLOOKUP("*"&Tabelle1[[#This Row],[Identidé (adresse email Login)]]&"*",'Export Utilisateurs'!$G$2:$G$9987,'Export Utilisateurs'!$A$2:$A$9987,"",2,1),"")
D6: =IF(Tabelle1[[#This Row],[Identidé (adresse email Login)]]<>"",_xlfn.XLOOKUP("*"&Tabelle1[[#This Row],[Identidé (adresse email Login)]]&"*",'Export Utilisateurs'!$G$2:$G$9987,'Export Utilisateurs'!$A$2:$A$9987,"",2,1),"")
D7: =IF(Tabelle1[[#This Row],[Identidé (adresse email Login)]]<>"",_xlfn.XLOOKUP("*"&Tabelle1[[#This Row],[Identidé (adresse email Login)]]&"*",'Export Utilisateurs'!$G$2:$G$9987,'Export Utilisateurs'!$A$2:$A$9987,"",2,1),"")
D8: =IF(Tabelle1[[#This Row],[Identidé (adresse email Login)]]<>"",_xlfn.XLOOKUP("*"&Tabelle1[[#This Row],[Identidé (adresse email Login)]]&"*",'Export Utilisateurs'!$G$2:$G$9987,'Export Utilisateurs'!$A$2:$A$9987,"",2,1),"")
D9: =IF(Tabelle1[[#This Row],[Identidé (adresse email Login)]]<>"",_xlfn.XLOOKUP("*"&Tabelle1[[#This Row],[Identidé (adresse email Login)]]&"*",'Export Utilisateurs'!$G$2:$G$9987,'Export Utilisateurs'!$A$2:$A$9987,"",2,1),"")
D10: =IF(Tabelle1[[#This Row],[Identidé (adresse email Login)]]<>"",_xlfn.XLOOKUP("*"&Tabelle1[[#This Row],[Identidé (adresse email Login)]]&"*",'Export Utilisateurs'!$G$2:$G$9987,'Export Utilisateurs'!$A$2:$A$9987,"",2,1),"")
D11: =IF(Tabelle1[[#This Row],[Identidé (adresse email Login)]]<>"",_xlfn.XLOOKUP("*"&Tabelle1[[#This Row],[Identidé (adresse email Login)]]&"*",'Export Utilisateurs'!$G$2:$G$9987,'Export Utilisateurs'!$A$2:$A$9987,"",2,1),"")
D12: =IF(Tabelle1[[#This Row],[Identidé (adresse email Login)]]<>"",_xlfn.XLOOKUP("*"&Tabelle1[[#This Row],[Identidé (adresse email Login)]]&"*",'Export Utilisateurs'!$G$2:$G$9987,'Export Utilisateurs'!$A$2:$A$9987,"",2,1),"")
D13: =IF(Tabelle1[[#This Row],[Identidé (adresse email Login)]]<>"",_xlfn.XLOOKUP("*"&Tabelle1[[#This Row],[Identidé (adresse email Login)]]&"*",'Export Utilisateurs'!$G$2:$G$9987,'Export Utilisateurs'!$A$2:$A$9987,"",2,1),"")
D14: =IF(Tabelle1[[#This Row],[Identidé (adresse email Login)]]<>"",_xlfn.XLOOKUP("*"&Tabelle1[[#This Row],[Identidé (adresse email Login)]]&"*",'Export Utilisateurs'!$G$2:$G$9987,'Export Utilisateurs'!$A$2:$A$9987,"",2,1),"")
D15: =IF(Tabelle1[[#This Row],[Identidé (adresse email Login)]]<>"",_xlfn.XLOOKUP("*"&Tabelle1[[#This Row],[Identidé (adresse email Login)]]&"*",'Export Utilisateurs'!$G$2:$G$9987,'Export Utilisateurs'!$A$2:$A$9987,"",2,1),"")
... D143: =IF(Tabelle1[[#This Row],[Identidé (adresse email Login)]]<>"",_xlfn.XLOOKUP("*"&Tabelle1[[#This Row],[Identidé (adresse email Login)]]&"*",'Export Utilisateurs'!$G$2:$G$9987,'Export Utilisateurs'!$A$2:$A$9987,"",2,1),"")

Sheet Import utilisateurs
A1: UserId | B1: Benutzerstatus | C1: Nachname | D1: Vorname | E1: Organisationen | F1: Rollenzuweisungen | G1: Identitaeten | H1: Emails | I1: Telefonnummern | J1: Mobilenummern | K1: Loeschen
A2: =IF(Tabelle1[[#This Row],[Clé utilisateur]]<>"",Tabelle1[[#This Row],[Clé utilisateur]],"") | C2: =IF(Tabelle1[[#This Row],[Nom]]<>"",Tabelle1[[#This Row],[Nom]],"") | D2: =IF(Tabelle1[[#This Row],[Prénom]]<>"",Tabelle1[[#This Row],[Prénom]],"") | E2: =IF(Tabelle1[[#This Row],[Organisation]]<>"",_xlfn.XLOOKUP(Tabelle1[[#This Row],[Organisation]],'Export organisations'!$B:$B,'Export organisations'!$A:$A,"",0,1),"") | F2: =_xlfn.TEXTJOIN("|",TRUE,IF(Tabelle1[[#This Row],[Fonction 1]]<>"",_xlfn.XLOOKUP(Tabelle1[[#This Row],[Organisation]],'Export organisations'!$B:$B,'Export organisations'!$A:$A,"",0,1)&":"&_xlfn.XLOOKUP(Tabelle1[[#This Row],[Fonction 1]],'Export fonctions'!B:B,'Export fonctions'!A:A,"",0,1),""),IF(Tabelle1[[#This Row],[Fonction 2]]<>"",_xlfn.XLOOKUP(Tabelle1[[#This Row],[Organisation]],'Export organisations'!$B:$B,'Export organisations'!$A:$A,"",0,1)&":"&_xlfn.XLOOKUP(Tabelle1[[#This Row],[Fonction 2]],'Export fonctions'!B:B,'Export fonctions'!A:A,"",0,1),""),IF(Tabelle1[[#This Row],[Fonction 3]]<>"",_xlfn.XLOOKUP(Tabelle1[[#This Row],[Organisation]],'Export organisations'!$B:$B,'Export organisations'!$A:$A,"",0,1)&":"&_xlfn.XLOOKUP(Tabelle1[[#This Row],[Fonction 3]],'Export fonctions'!B:B,'Export fonctions'!A:A,"",0,1),""),IF(Tabelle1[[#This Row],[Fonction 4]]<>"",_xlfn.XLOOKUP(Tabelle1[[#This Row],[Organisation]],'Export organisations'!$B:$B,'Export organisations'!$A:$A,"",0,1)&":"&_xlfn.XLOOKUP(Tabelle1[[#This Row],[Fonction 4]],'Export fonctions'!B:B,'Export fonctions'!A:A,"",0,1),""),IF(Tabelle1[[#This Row],[Fonction 5]]<>"",_xlfn.XLOOKUP(Tabelle1[[#This Row],[Organisation]],'Export organisations'!$B:$B,'Export organisations'!$A:$A,"",0,1)&":"&_xlfn.XLOOKUP(Tabelle1[[#This Row],[Fonction 5]],'Export fonctions'!B:B,'Export fonctions'!A:A,"",0,1),"")) | G2: =IF(Tabelle1[[#This Row],[Identidé (adresse email Login)]]<>"",Tabelle1[[#This Row],[Identidé (adresse email Login)]],"") | H2: =IF(Tabelle1[[#This Row],[Emails]]<>"",Tabelle1[[#This Row],[Emails]],"") | I2: =IF(Tabelle1[[#This Row],[N° téléphone]]<>"",Tabelle1[[#This Row],[N° téléphone]],"") | J2: =IF(Tabelle1[[#This Row],[N°portable]]<>"",Tabelle1[[#This Row],[N°portable]],"")
A3: =IF(Tabelle1[[#This Row],[Clé utilisateur]]<>"",Tabelle1[[#This Row],[Clé utilisateur]],"") | C3: =IF(Tabelle1[[#This Row],[Nom]]<>"",Tabelle1[[#This Row],[Nom]],"") | D3: =IF(Tabelle1[[#This Row],[Prénom]]<>"",Tabelle1[[#This Row],[Prénom]],"") | E3: =IF(Tabelle1[[#This Row],[Organisation]]<>"",_xlfn.XLOOKUP(Tabelle1[[#This Row],[Organisation]],'Export organisations'!$B:$B,'Export organisations'!$A:$A,"",0,1),"") | F3: =_xlfn.TEXTJOIN("|",TRUE,IF(Tabelle1[[#This Row],[Fonction 1]]<>"",_xlfn.XLOOKUP(Tabelle1[[#This Row],[Organisation]],'Export organisations'!$B:$B,'Export organisations'!$A:$A,"",0,1)&":"&_xlfn.XLOOKUP(Tabelle1[[#This Row],[Fonction 1]],'Export fonctions'!B:B,'Export fonctions'!A:A,"",0,1),""),IF(Tabelle1[[#This Row],[Fonction 2]]<>"",_xlfn.XLOOKUP(Tabelle1[[#This Row],[Organisation]],'Export organisations'!$B:$B,'Export organisations'!$A:$A,"",0,1)&":"&_xlfn.XLOOKUP(Tabelle1[[#This Row],[Fonction 2]],'Export fonctions'!B:B,'Export fonctions'!A:A,"",0,1),""),IF(Tabelle1[[#This Row],[Fonction 3]]<>"",_xlfn.XLOOKUP(Tabelle1[[#This Row],[Organisation]],'Export organisations'!$B:$B,'Export organisations'!$A:$A,"",0,1)&":"&_xlfn.XLOOKUP(Tabelle1[[#This Row],[Fonction 3]],'Export fonctions'!B:B,'Export fonctions'!A:A,"",0,1),""),IF(Tabelle1[[#This Row],[Fonction 4]]<>"",_xlfn.XLOOKUP(Tabelle1[[#This Row],[Organisation]],'Export organisations'!$B:$B,'Export organisations'!$A:$A,"",0,1)&":"&_xlfn.XLOOKUP(Tabelle1[[#This Row],[Fonction 4]],'Export fonctions'!B:B,'Export fonctions'!A:A,"",0,1),""),IF(Tabelle1[[#This Row],[Fonction 5]]<>"",_xlfn.XLOOKUP(Tabelle1[[#This Row],[Organisation]],'Export organisations'!$B:$B,'Export organisations'!$A:$A,"",0,1)&":"&_xlfn.XLOOKUP(Tabelle1[[#This Row],[Fonction 5]],'Export fonctions'!B:B,'Export fonctions'!A:A,"",0,1),"")) | G3: =IF(Tabelle1[[#This Row],[Identidé (adresse email Login)]]<>"",Tabelle1[[#This Row],[Identidé (adresse email Login)]],"") | H3: =IF(Tabelle1[[#This Row],[Emails]]<>"",Tabelle1[[#This Row],[Emails]],"") | I3: =IF(Tabelle1[[#This Row],[N° téléphone]]<>"",Tabelle1[[#This Row],[N° téléphone]],"") | J3: =IF(Tabelle1[[#This Row],[N°portable]]<>"",Tabelle1[[#This Row],[N°portable]],"")
A4: =IF(Tabelle1[[#This Row],[Clé utilisateur]]<>"",Tabelle1[[#This Row],[Clé utilisateur]],"") | C4: =IF(Tabelle1[[#This Row],[Nom]]<>"",Tabelle1[[#This Row],[Nom]],"") | D4: =IF(Tabelle1[[#This Row],[Prénom]]<>"",Tabelle1[[#This Row],[Prénom]],"") | E4: =IF(Tabelle1[[#This Row],[Organisation]]<>"",_xlfn.XLOOKUP(Tabelle1[[#This Row],[Organisation]],'Export organisations'!$B:$B,'Export organisations'!$A:$A,"",0,1),"") | F4: =_xlfn.TEXTJOIN("|",TRUE,IF(Tabelle1[[#This Row],[Fonction 1]]<>"",_xlfn.XLOOKUP(Tabelle1[[#This Row],[Organisation]],'Export organisations'!$B:$B,'Export organisations'!$A:$A,"",0,1)&":"&_xlfn.XLOOKUP(Tabelle1[[#This Row],[Fonction 1]],'Export fonctions'!B:B,'Export fonctions'!A:A,"",0,1),""),IF(Tabelle1[[#This Row],[Fonction 2]]<>"",_xlfn.XLOOKUP(Tabelle1[[#This Row],[Organisation]],'Export organisations'!$B:$B,'Export organisations'!$A:$A,"",0,1)&":"&_xlfn.XLOOKUP(Tabelle1[[#This Row],[Fonction 2]],'Export fonctions'!B:B,'Export fonctions'!A:A,"",0,1),""),IF(Tabelle1[[#This Row],[Fonction 3]]<>"",_xlfn.XLOOKUP(Tabelle1[[#This Row],[Organisation]],'Export organisations'!$B:$B,'Export organisations'!$A:$A,"",0,1)&":"&_xlfn.XLOOKUP(Tabelle1[[#This Row],[Fonction 3]],'Export fonctions'!B:B,'Export fonctions'!A:A,"",0,1),""),IF(Tabelle1[[#This Row],[Fonction 4]]<>"",_xlfn.XLOOKUP(Tabelle1[[#This Row],[Organisation]],'Export organisations'!$B:$B,'Export organisations'!$A:$A,"",0,1)&":"&_xlfn.XLOOKUP(Tabelle1[[#This Row],[Fonction 4]],'Export fonctions'!B:B,'Export fonctions'!A:A,"",0,1),""),IF(Tabelle1[[#This Row],[Fonction 5]]<>"",_xlfn.XLOOKUP(Tabelle1[[#This Row],[Organisation]],'Export organisations'!$B:$B,'Export organisations'!$A:$A,"",0,1)&":"&_xlfn.XLOOKUP(Tabelle1[[#This Row],[Fonction 5]],'Export fonctions'!B:B,'Export fonctions'!A:A,"",0,1),"")) | G4: =IF(Tabelle1[[#This Row],[Identidé (adresse email Login)]]<>"",Tabelle1[[#This Row],[Identidé (adresse email Login)]],"") | H4: =IF(Tabelle1[[#This Row],[Emails]]<>"",Tabelle1[[#This Row],[Emails]],"") | I4: =IF(Tabelle1[[#This Row],[N° téléphone]]<>"",Tabelle1[[#This Row],[N° téléphone]],"") | J4: =IF(Tabelle1[[#This Row],[N°portable]]<>"",Tabelle1[[#This Row],[N°portable]],"")
A5: =IF(Tabelle1[[#This Row],[Clé utilisateur]]<>"",Tabelle1[[#This Row],[Clé utilisateur]],"") | C5: =IF(Tabelle1[[#This Row],[Nom]]<>"",Tabelle1[[#This Row],[Nom]],"") | D5: =IF(Tabelle1[[#This Row],[Prénom]]<>"",Tabelle1[[#This Row],[Prénom]],"") | E5: =IF(Tabelle1[[#This Row],[Organisation]]<>"",_xlfn.XLOOKUP(Tabelle1[[#This Row],[Organisation]],'Export organisations'!$B:$B,'Export organisations'!$A:$A,"",0,1),"") | F5: =_xlfn.TEXTJOIN("|",TRUE,IF(Tabelle1[[#This Row],[Fonction 1]]<>"",_xlfn.XLOOKUP(Tabelle1[[#This Row],[Organisation]],'Export organisations'!$B:$B,'Export organisations'!$A:$A,"",0,1)&":"&_xlfn.XLOOKUP(Tabelle1[[#This Row],[Fonction 1]],'Export fonctions'!B:B,'Export fonctions'!A:A,"",0,1),""),IF(Tabelle1[[#This Row],[Fonction 2]]<>"",_xlfn.XLOOKUP(Tabelle1[[#This Row],[Organisation]],'Export organisations'!$B:$B,'Export organisations'!$A:$A,"",0,1)&":"&_xlfn.XLOOKUP(Tabelle1[[#This Row],[Fonction 2]],'Export fonctions'!B:B,'Export fonctions'!A:A,"",0,1),""),IF(Tabelle1[[#This Row],[Fonction 3]]<>"",_xlfn.XLOOKUP(Tabelle1[[#This Row],[Organisation]],'Export organisations'!$B:$B,'Export organisations'!$A:$A,"",0,1)&":"&_xlfn.XLOOKUP(Tabelle1[[#This Row],[Fonction 3]],'Export fonctions'!B:B,'Export fonctions'!A:A,"",0,1),""),IF(Tabelle1[[#This Row],[Fonction 4]]<>"",_xlfn.XLOOKUP(Tabelle1[[#This Row],[Organisation]],'Export organisations'!$B:$B,'Export organisations'!$A:$A,"",0,1)&":"&_xlfn.XLOOKUP(Tabelle1[[#This Row],[Fonction 4]],'Export fonctions'!B:B,'Export fonctions'!A:A,"",0,1),""),IF(Tabelle1[[#This Row],[Fonction 5]]<>"",_xlfn.XLOOKUP(Tabelle1[[#This Row],[Organisation]],'Export organisations'!$B:$B,'Export organisations'!$A:$A,"",0,1)&":"&_xlfn.XLOOKUP(Tabelle1[[#This Row],[Fonction 5]],'Export fonctions'!B:B,'Export fonctions'!A:A,"",0,1),"")) | G5: =IF(Tabelle1[[#This Row],[Identidé (adresse email Login)]]<>"",Tabelle1[[#This Row],[Identidé (adresse email Login)]],"") | H5: =IF(Tabelle1[[#This Row],[Emails]]<>"",Tabelle1[[#This Row],[Emails]],"") | I5: =IF(Tabelle1[[#This Row],[N° téléphone]]<>"",Tabelle1[[#This Row],[N° téléphone]],"") | J5: =IF(Tabelle1[[#This Row],[N°portable]]<>"",Tabelle1[[#This Row],[N°portable]],"")
A6: =IF(Tabelle1[[#This Row],[Clé utilisateur]]<>"",Tabelle1[[#This Row],[Clé utilisateur]],"") | C6: =IF(Tabelle1[[#This Row],[Nom]]<>"",Tabelle1[[#This Row],[Nom]],"") | D6: =IF(Tabelle1[[#This Row],[Prénom]]<>"",Tabelle1[[#This Row],[Prénom]],"") | E6: =IF(Tabelle1[[#This Row],[Organisation]]<>"",_xlfn.XLOOKUP(Tabelle1[[#This Row],[Organisation]],'Export organisations'!$B:$B,'Export organisations'!$A:$A,"",0,1),"") | F6: =_xlfn.TEXTJOIN("|",TRUE,IF(Tabelle1[[#This Row],[Fonction 1]]<>"",_xlfn.XLOOKUP(Tabelle1[[#This Row],[Organisation]],'Export organisations'!$B:$B,'Export organisations'!$A:$A,"",0,1)&":"&_xlfn.XLOOKUP(Tabelle1[[#This Row],[Fonction 1]],'Export fonctions'!B:B,'Export fonctions'!A:A,"",0,1),""),IF(Tabelle1[[#This Row],[Fonction 2]]<>"",_xlfn.XLOOKUP(Tabelle1[[#This Row],[Organisation]],'Export organisations'!$B:$B,'Export organisations'!$A:$A,"",0,1)&":"&_xlfn.XLOOKUP(Tabelle1[[#This Row],[Fonction 2]],'Export fonctions'!B:B,'Export fonctions'!A:A,"",0,1),""),IF(Tabelle1[[#This Row],[Fonction 3]]<>"",_xlfn.XLOOKUP(Tabelle1[[#This Row],[Organisation]],'Export organisations'!$B:$B,'Export organisations'!$A:$A,"",0,1)&":"&_xlfn.XLOOKUP(Tabelle1[[#This Row],[Fonction 3]],'Export fonctions'!B:B,'Export fonctions'!A:A,"",0,1),""),IF(Tabelle1[[#This Row],[Fonction 4]]<>"",_xlfn.XLOOKUP(Tabelle1[[#This Row],[Organisation]],'Export organisations'!$B:$B,'Export organisations'!$A:$A,"",0,1)&":"&_xlfn.XLOOKUP(Tabelle1[[#This Row],[Fonction 4]],'Export fonctions'!B:B,'Export fonctions'!A:A,"",0,1),""),IF(Tabelle1[[#This Row],[Fonction 5]]<>"",_xlfn.XLOOKUP(Tabelle1[[#This Row],[Organisation]],'Export organisations'!$B:$B,'Export organisations'!$A:$A,"",0,1)&":"&_xlfn.XLOOKUP(Tabelle1[[#This Row],[Fonction 5]],'Export fonctions'!B:B,'Export fonctions'!A:A,"",0,1),"")) | G6: =IF(Tabelle1[[#This Row],[Identidé (adresse email Login)]]<>"",Tabelle1[[#This Row],[Identidé (adresse email Login)]],"") | H6: =IF(Tabelle1[[#This Row],[Emails]]<>"",Tabelle1[[#This Row],[Emails]],"") | I6: =IF(Tabelle1[[#This Row],[N° téléphone]]<>"",Tabelle1[[#This Row],[N° téléphone]],"") | J6: =IF(Tabelle1[[#This Row],[N°portable]]<>"",Tabelle1[[#This Row],[N°portable]],"")
A7: =IF(Tabelle1[[#This Row],[Clé utilisateur]]<>"",Tabelle1[[#This Row],[Clé utilisateur]],"") | C7: =IF(Tabelle1[[#This Row],[Nom]]<>"",Tabelle1[[#This Row],[Nom]],"") | D7: =IF(Tabelle1[[#This Row],[Prénom]]<>"",Tabelle1[[#This Row],[Prénom]],"") | E7: =IF(Tabelle1[[#This Row],[Organisation]]<>"",_xlfn.XLOOKUP(Tabelle1[[#This Row],[Organisation]],'Export organisations'!$B:$B,'Export organisations'!$A:$A,"",0,1),"") | F7: =_xlfn.TEXTJOIN("|",TRUE,IF(Tabelle1[[#This Row],[Fonction 1]]<>"",_xlfn.XLOOKUP(Tabelle1[[#This Row],[Organisation]],'Export organisations'!$B:$B,'Export organisations'!$A:$A,"",0,1)&":"&_xlfn.XLOOKUP(Tabelle1[[#This Row],[Fonction 1]],'Export fonctions'!B:B,'Export fonctions'!A:A,"",0,1),""),IF(Tabelle1[[#This Row],[Fonction 2]]<>"",_xlfn.XLOOKUP(Tabelle1[[#This Row],[Organisation]],'Export organisations'!$B:$B,'Export organisations'!$A:$A,"",0,1)&":"&_xlfn.XLOOKUP(Tabelle1[[#This Row],[Fonction 2]],'Export fonctions'!B:B,'Export fonctions'!A:A,"",0,1),""),IF(Tabelle1[[#This Row],[Fonction 3]]<>"",_xlfn.XLOOKUP(Tabelle1[[#This Row],[Organisation]],'Export organisations'!$B:$B,'Export organisations'!$A:$A,"",0,1)&":"&_xlfn.XLOOKUP(Tabelle1[[#This Row],[Fonction 3]],'Export fonctions'!B:B,'Export fonctions'!A:A,"",0,1),""),IF(Tabelle1[[#This Row],[Fonction 4]]<>"",_xlfn.XLOOKUP(Tabelle1[[#This Row],[Organisation]],'Export organisations'!$B:$B,'Export organisations'!$A:$A,"",0,1)&":"&_xlfn.XLOOKUP(Tabelle1[[#This Row],[Fonction 4]],'Export fonctions'!B:B,'Export fonctions'!A:A,"",0,1),""),IF(Tabelle1[[#This Row],[Fonction 5]]<>"",_xlfn.XLOOKUP(Tabelle1[[#This Row],[Organisation]],'Export organisations'!$B:$B,'Export organisations'!$A:$A,"",0,1)&":"&_xlfn.XLOOKUP(Tabelle1[[#This Row],[Fonction 5]],'Export fonctions'!B:B,'Export fonctions'!A:A,"",0,1),"")) | G7: =IF(Tabelle1[[#This Row],[Identidé (adresse email Login)]]<>"",Tabelle1[[#This Row],[Identidé (adresse email Login)]],"") | H7: =IF(Tabelle1[[#This Row],[Emails]]<>"",Tabelle1[[#This Row],[Emails]],"") | I7: =IF(Tabelle1[[#This Row],[N° téléphone]]<>"",Tabelle1[[#This Row],[N° téléphone]],"") | J7: =IF(Tabelle1[[#This Row],[N°portable]]<>"",Tabelle1[[#This Row],[N°portable]],"")
A8: =IF(Tabelle1[[#This Row],[Clé utilisateur]]<>"",Tabelle1[[#This Row],[Clé utilisateur]],"") | C8: =IF(Tabelle1[[#This Row],[Nom]]<>"",Tabelle1[[#This Row],[Nom]],"") | D8: =IF(Tabelle1[[#This Row],[Prénom]]<>"",Tabelle1[[#This Row],[Prénom]],"") | E8: =IF(Tabelle1[[#This Row],[Organisation]]<>"",_xlfn.XLOOKUP(Tabelle1[[#This Row],[Organisation]],'Export organisations'!$B:$B,'Export organisations'!$A:$A,"",0,1),"") | F8: =_xlfn.TEXTJOIN("|",TRUE,IF(Tabelle1[[#This Row],[Fonction 1]]<>"",_xlfn.XLOOKUP(Tabelle1[[#This Row],[Organisation]],'Export organisations'!$B:$B,'Export organisations'!$A:$A,"",0,1)&":"&_xlfn.XLOOKUP(Tabelle1[[#This Row],[Fonction 1]],'Export fonctions'!B:B,'Export fonctions'!A:A,"",0,1),""),IF(Tabelle1[[#This Row],[Fonction 2]]<>"",_xlfn.XLOOKUP(Tabelle1[[#This Row],[Organisation]],'Export organisations'!$B:$B,'Export organisations'!$A:$A,"",0,1)&":"&_xlfn.XLOOKUP(Tabelle1[[#This Row],[Fonction 2]],'Export fonctions'!B:B,'Export fonctions'!A:A,"",0,1),""),IF(Tabelle1[[#This Row],[Fonction 3]]<>"",_xlfn.XLOOKUP(Tabelle1[[#This Row],[Organisation]],'Export organisations'!$B:$B,'Export organisations'!$A:$A,"",0,1)&":"&_xlfn.XLOOKUP(Tabelle1[[#This Row],[Fonction 3]],'Export fonctions'!B:B,'Export fonctions'!A:A,"",0,1),""),IF(Tabelle1[[#This Row],[Fonction 4]]<>"",_xlfn.XLOOKUP(Tabelle1[[#This Row],[Organisation]],'Export organisations'!$B:$B,'Export organisations'!$A:$A,"",0,1)&":"&_xlfn.XLOOKUP(Tabelle1[[#This Row],[Fonction 4]],'Export fonctions'!B:B,'Export fonctions'!A:A,"",0,1),""),IF(Tabelle1[[#This Row],[Fonction 5]]<>"",_xlfn.XLOOKUP(Tabelle1[[#This Row],[Organisation]],'Export organisations'!$B:$B,'Export organisations'!$A:$A,"",0,1)&":"&_xlfn.XLOOKUP(Tabelle1[[#This Row],[Fonction 5]],'Export fonctions'!B:B,'Export fonctions'!A:A,"",0,1),"")) | G8: =IF(Tabelle1[[#This Row],[Identidé (adresse email Login)]]<>"",Tabelle1[[#This Row],[Identidé (adresse email Login)]],"") | H8: =IF(Tabelle1[[#This Row],[Emails]]<>"",Tabelle1[[#This Row],[Emails]],"") | I8: =IF(Tabelle1[[#This Row],[N° téléphone]]<>"",Tabelle1[[#This Row],[N° téléphone]],"") | J8: =IF(Tabelle1[[#This Row],[N°portable]]<>"",Tabelle1[[#This Row],[N°portable]],"")
A9: =IF(Tabelle1[[#This Row],[Clé utilisateur]]<>"",Tabelle1[[#This Row],[Clé utilisateur]],"") | C9: =IF(Tabelle1[[#This Row],[Nom]]<>"",Tabelle1[[#This Row],[Nom]],"") | D9: =IF(Tabelle1[[#This Row],[Prénom]]<>"",Tabelle1[[#This Row],[Prénom]],"") | E9: =IF(Tabelle1[[#This Row],[Organisation]]<>"",_xlfn.XLOOKUP(Tabelle1[[#This Row],[Organisation]],'Export organisations'!$B:$B,'Export organisations'!$A:$A,"",0,1),"") | F9: =_xlfn.TEXTJOIN("|",TRUE,IF(Tabelle1[[#This Row],[Fonction 1]]<>"",_xlfn.XLOOKUP(Tabelle1[[#This Row],[Organisation]],'Export organisations'!$B:$B,'Export organisations'!$A:$A,"",0,1)&":"&_xlfn.XLOOKUP(Tabelle1[[#This Row],[Fonction 1]],'Export fonctions'!B:B,'Export fonctions'!A:A,"",0,1),""),IF(Tabelle1[[#This Row],[Fonction 2]]<>"",_xlfn.XLOOKUP(Tabelle1[[#This Row],[Organisation]],'Export organisations'!$B:$B,'Export organisations'!$A:$A,"",0,1)&":"&_xlfn.XLOOKUP(Tabelle1[[#This Row],[Fonction 2]],'Export fonctions'!B:B,'Export fonctions'!A:A,"",0,1),""),IF(Tabelle1[[#This Row],[Fonction 3]]<>"",_xlfn.XLOOKUP(Tabelle1[[#This Row],[Organisation]],'Export organisations'!$B:$B,'Export organisations'!$A:$A,"",0,1)&":"&_xlfn.XLOOKUP(Tabelle1[[#This Row],[Fonction 3]],'Export fonctions'!B:B,'Export fonctions'!A:A,"",0,1),""),IF(Tabelle1[[#This Row],[Fonction 4]]<>"",_xlfn.XLOOKUP(Tabelle1[[#This Row],[Organisation]],'Export organisations'!$B:$B,'Export organisations'!$A:$A,"",0,1)&":"&_xlfn.XLOOKUP(Tabelle1[[#This Row],[Fonction 4]],'Export fonctions'!B:B,'Export fonctions'!A:A,"",0,1),""),IF(Tabelle1[[#This Row],[Fonction 5]]<>"",_xlfn.XLOOKUP(Tabelle1[[#This Row],[Organisation]],'Export organisations'!$B:$B,'Export organisations'!$A:$A,"",0,1)&":"&_xlfn.XLOOKUP(Tabelle1[[#This Row],[Fonction 5]],'Export fonctions'!B:B,'Export fonctions'!A:A,"",0,1),"")) | G9: =IF(Tabelle1[[#This Row],[Identidé (adresse email Login)]]<>"",Tabelle1[[#This Row],[Identidé (adresse email Login)]],"") | H9: =IF(Tabelle1[[#This Row],[Emails]]<>"",Tabelle1[[#This Row],[Emails]],"") | I9: =IF(Tabelle1[[#This Row],[N° téléphone]]<>"",Tabelle1[[#This Row],[N° téléphone]],"") | J9: =IF(Tabelle1[[#This Row],[N°portable]]<>"",Tabelle1[[#This Row],[N°portable]],"")
A10: =IF(Tabelle1[[#This Row],[Clé utilisateur]]<>"",Tabelle1[[#This Row],[Clé utilisateur]],"") | C10: =IF(Tabelle1[[#This Row],[Nom]]<>"",Tabelle1[[#This Row],[Nom]],"") | D10: =IF(Tabelle1[[#This Row],[Prénom]]<>"",Tabelle1[[#This Row],[Prénom]],"") | E10: =IF(Tabelle1[[#This Row],[Organisation]]<>"",_xlfn.XLOOKUP(Tabelle1[[#This Row],[Organisation]],'Export organisations'!$B:$B,'Export organisations'!$A:$A,"",0,1),"") | F10: =_xlfn.TEXTJOIN("|",TRUE,IF(Tabelle1[[#This Row],[Fonction 1]]<>"",_xlfn.XLOOKUP(Tabelle1[[#This Row],[Organisation]],'Export organisations'!$B:$B,'Export organisations'!$A:$A,"",0,1)&":"&_xlfn.XLOOKUP(Tabelle1[[#This Row],[Fonction 1]],'Export fonctions'!B:B,'Export fonctions'!A:A,"",0,1),""),IF(Tabelle1[[#This Row],[Fonction 2]]<>"",_xlfn.XLOOKUP(Tabelle1[[#This Row],[Organisation]],'Export organisations'!$B:$B,'Export organisations'!$A:$A,"",0,1)&":"&_xlfn.XLOOKUP(Tabelle1[[#This Row],[Fonction 2]],'Export fonctions'!B:B,'Export fonctions'!A:A,"",0,1),""),IF(Tabelle1[[#This Row],[Fonction 3]]<>"",_xlfn.XLOOKUP(Tabelle1[[#This Row],[Organisation]],'Export organisations'!$B:$B,'Export organisations'!$A:$A,"",0,1)&":"&_xlfn.XLOOKUP(Tabelle1[[#This Row],[Fonction 3]],'Export fonctions'!B:B,'Export fonctions'!A:A,"",0,1),""),IF(Tabelle1[[#This Row],[Fonction 4]]<>"",_xlfn.XLOOKUP(Tabelle1[[#This Row],[Organisation]],'Export organisations'!$B:$B,'Export organisations'!$A:$A,"",0,1)&":"&_xlfn.XLOOKUP(Tabelle1[[#This Row],[Fonction 4]],'Export fonctions'!B:B,'Export fonctions'!A:A,"",0,1),""),IF(Tabelle1[[#This Row],[Fonction 5]]<>"",_xlfn.XLOOKUP(Tabelle1[[#This Row],[Organisation]],'Export organisations'!$B:$B,'Export organisations'!$A:$A,"",0,1)&":"&_xlfn.XLOOKUP(Tabelle1[[#This Row],[Fonction 5]],'Export fonctions'!B:B,'Export fonctions'!A:A,"",0,1),"")) | G10: =IF(Tabelle1[[#This Row],[Identidé (adresse email Login)]]<>"",Tabelle1[[#This Row],[Identidé (adresse email Login)]],"") | H10: =IF(Tabelle1[[#This Row],[Emails]]<>"",Tabelle1[[#This Row],[Emails]],"") | I10: =IF(Tabelle1[[#This Row],[N° téléphone]]<>"",Tabelle1[[#This Row],[N° téléphone]],"") | J10: =IF(Tabelle1[[#This Row],[N°portable]]<>"",Tabelle1[[#This Row],[N°portable]],"")
A11: =IF(Tabelle1[[#This Row],[Clé utilisateur]]<>"",Tabelle1[[#This Row],[Clé utilisateur]],"") | C11: =IF(Tabelle1[[#This Row],[Nom]]<>"",Tabelle1[[#This Row],[Nom]],"") | D11: =IF(Tabelle1[[#This Row],[Prénom]]<>"",Tabelle1[[#This Row],[Prénom]],"") | E11: =IF(Tabelle1[[#This Row],[Organisation]]<>"",_xlfn.XLOOKUP(Tabelle1[[#This Row],[Organisation]],'Export organisations'!$B:$B,'Export organisations'!$A:$A,"",0,1),"") | F11: =_xlfn.TEXTJOIN("|",TRUE,IF(Tabelle1[[#This Row],[Fonction 1]]<>"",_xlfn.XLOOKUP(Tabelle1[[#This Row],[Organisation]],'Export organisations'!$B:$B,'Export organisations'!$A:$A,"",0,1)&":"&_xlfn.XLOOKUP(Tabelle1[[#This Row],[Fonction 1]],'Export fonctions'!B:B,'Export fonctions'!A:A,"",0,1),""),IF(Tabelle1[[#This Row],[Fonction 2]]<>"",_xlfn.XLOOKUP(Tabelle1[[#This Row],[Organisation]],'Export organisations'!$B:$B,'Export organisations'!$A:$A,"",0,1)&":"&_xlfn.XLOOKUP(Tabelle1[[#This Row],[Fonction 2]],'Export fonctions'!B:B,'Export fonctions'!A:A,"",0,1),""),IF(Tabelle1[[#This Row],[Fonction 3]]<>"",_xlfn.XLOOKUP(Tabelle1[[#This Row],[Organisation]],'Export organisations'!$B:$B,'Export organisations'!$A:$A,"",0,1)&":"&_xlfn.XLOOKUP(Tabelle1[[#This Row],[Fonction 3]],'Export fonctions'!B:B,'Export fonctions'!A:A,"",0,1),""),IF(Tabelle1[[#This Row],[Fonction 4]]<>"",_xlfn.XLOOKUP(Tabelle1[[#This Row],[Organisation]],'Export organisations'!$B:$B,'Export organisations'!$A:$A,"",0,1)&":"&_xlfn.XLOOKUP(Tabelle1[[#This Row],[Fonction 4]],'Export fonctions'!B:B,'Export fonctions'!A:A,"",0,1),""),IF(Tabelle1[[#This Row],[Fonction 5]]<>"",_xlfn.XLOOKUP(Tabelle1[[#This Row],[Organisation]],'Export organisations'!$B:$B,'Export organisations'!$A:$A,"",0,1)&":"&_xlfn.XLOOKUP(Tabelle1[[#This Row],[Fonction 5]],'Export fonctions'!B:B,'Export fonctions'!A:A,"",0,1),"")) | G11: =IF(Tabelle1[[#This Row],[Identidé (adresse email Login)]]<>"",Tabelle1[[#This Row],[Identidé (adresse email Login)]],"") | H11: =IF(Tabelle1[[#This Row],[Emails]]<>"",Tabelle1[[#This Row],[Emails]],"") | I11: =IF(Tabelle1[[#This Row],[N° téléphone]]<>"",Tabelle1[[#This Row],[N° téléphone]],"") | J11: =IF(Tabelle1[[#This Row],[N°portable]]<>"",Tabelle1[[#This Row],[N°portable]],"")
A12: =IF(Tabelle1[[#This Row],[Clé utilisateur]]<>"",Tabelle1[[#This Row],[Clé utilisateur]],"") | C12: =IF(Tabelle1[[#This Row],[Nom]]<>"",Tabelle1[[#This Row],[Nom]],"") | D12: =IF(Tabelle1[[#This Row],[Prénom]]<>"",Tabelle1[[#This Row],[Prénom]],"") | E12: =IF(Tabelle1[[#This Row],[Organisation]]<>"",_xlfn.XLOOKUP(Tabelle1[[#This Row],[Organisation]],'Export organisations'!$B:$B,'Export organisations'!$A:$A,"",0,1),"") | F12: =_xlfn.TEXTJOIN("|",TRUE,IF(Tabelle1[[#This Row],[Fonction 1]]<>"",_xlfn.XLOOKUP(Tabelle1[[#This Row],[Organisation]],'Export organisations'!$B:$B,'Export organisations'!$A:$A,"",0,1)&":"&_xlfn.XLOOKUP(Tabelle1[[#This Row],[Fonction 1]],'Export fonctions'!B:B,'Export fonctions'!A:A,"",0,1),""),IF(Tabelle1[[#This Row],[Fonction 2]]<>"",_xlfn.XLOOKUP(Tabelle1[[#This Row],[Organisation]],'Export organisations'!$B:$B,'Export organisations'!$A:$A,"",0,1)&":"&_xlfn.XLOOKUP(Tabelle1[[#This Row],[Fonction 2]],'Export fonctions'!B:B,'Export fonctions'!A:A,"",0,1),""),IF(Tabelle1[[#This Row],[Fonction 3]]<>"",_xlfn.XLOOKUP(Tabelle1[[#This Row],[Organisation]],'Export organisations'!$B:$B,'Export organisations'!$A:$A,"",0,1)&":"&_xlfn.XLOOKUP(Tabelle1[[#This Row],[Fonction 3]],'Export fonctions'!B:B,'Export fonctions'!A:A,"",0,1),""),IF(Tabelle1[[#This Row],[Fonction 4]]<>"",_xlfn.XLOOKUP(Tabelle1[[#This Row],[Organisation]],'Export organisations'!$B:$B,'Export organisations'!$A:$A,"",0,1)&":"&_xlfn.XLOOKUP(Tabelle1[[#This Row],[Fonction 4]],'Export fonctions'!B:B,'Export fonctions'!A:A,"",0,1),""),IF(Tabelle1[[#This Row],[Fonction 5]]<>"",_xlfn.XLOOKUP(Tabelle1[[#This Row],[Organisation]],'Export organisations'!$B:$B,'Export organisations'!$A:$A,"",0,1)&":"&_xlfn.XLOOKUP(Tabelle1[[#This Row],[Fonction 5]],'Export fonctions'!B:B,'Export fonctions'!A:A,"",0,1),"")) | G12: =IF(Tabelle1[[#This Row],[Identidé (adresse email Login)]]<>"",Tabelle1[[#This Row],[Identidé (adresse email Login)]],"") | H12: =IF(Tabelle1[[#This Row],[Emails]]<>"",Tabelle1[[#This Row],[Emails]],"") | I12: =IF(Tabelle1[[#This Row],[N° téléphone]]<>"",Tabelle1[[#This Row],[N° téléphone]],"") | J12: =IF(Tabelle1[[#This Row],[N°portable]]<>"",Tabelle1[[#This Row],[N°portable]],"")
A13: =IF(Tabelle1[[#This Row],[Clé utilisateur]]<>"",Tabelle1[[#This Row],[Clé utilisateur]],"") | C13: =IF(Tabelle1[[#This Row],[Nom]]<>"",Tabelle1[[#This Row],[Nom]],"") | D13: =IF(Tabelle1[[#This Row],[Prénom]]<>"",Tabelle1[[#This Row],[Prénom]],"") | E13: =IF(Tabelle1[[#This Row],[Organisation]]<>"",_xlfn.XLOOKUP(Tabelle1[[#This Row],[Organisation]],'Export organisations'!$B:$B,'Export organisations'!$A:$A,"",0,1),"") | F13: =_xlfn.TEXTJOIN("|",TRUE,IF(Tabelle1[[#This Row],[Fonction 1]]<>"",_xlfn.XLOOKUP(Tabelle1[[#This Row],[Organisation]],'Export organisations'!$B:$B,'Export organisations'!$A:$A,"",0,1)&":"&_xlfn.XLOOKUP(Tabelle1[[#This Row],[Fonction 1]],'Export fonctions'!B:B,'Export fonctions'!A:A,"",0,1),""),IF(Tabelle1[[#This Row],[Fonction 2]]<>"",_xlfn.XLOOKUP(Tabelle1[[#This Row],[Organisation]],'Export organisations'!$B:$B,'Export organisations'!$A:$A,"",0,1)&":"&_xlfn.XLOOKUP(Tabelle1[[#This Row],[Fonction 2]],'Export fonctions'!B:B,'Export fonctions'!A:A,"",0,1),""),IF(Tabelle1[[#This Row],[Fonction 3]]<>"",_xlfn.XLOOKUP(Tabelle1[[#This Row],[Organisation]],'Export organisations'!$B:$B,'Export organisations'!$A:$A,"",0,1)&":"&_xlfn.XLOOKUP(Tabelle1[[#This Row],[Fonction 3]],'Export fonctions'!B:B,'Export fonctions'!A:A,"",0,1),""),IF(Tabelle1[[#This Row],[Fonction 4]]<>"",_xlfn.XLOOKUP(Tabelle1[[#This Row],[Organisation]],'Export organisations'!$B:$B,'Export organisations'!$A:$A,"",0,1)&":"&_xlfn.XLOOKUP(Tabelle1[[#This Row],[Fonction 4]],'Export fonctions'!B:B,'Export fonctions'!A:A,"",0,1),""),IF(Tabelle1[[#This Row],[Fonction 5]]<>"",_xlfn.XLOOKUP(Tabelle1[[#This Row],[Organisation]],'Export organisations'!$B:$B,'Export organisations'!$A:$A,"",0,1)&":"&_xlfn.XLOOKUP(Tabelle1[[#This Row],[Fonction 5]],'Export fonctions'!B:B,'Export fonctions'!A:A,"",0,1),"")) | G13: =IF(Tabelle1[[#This Row],[Identidé (adresse email Login)]]<>"",Tabelle1[[#This Row],[Identidé (adresse email Login)]],"") | H13: =IF(Tabelle1[[#This Row],[Emails]]<>"",Tabelle1[[#This Row],[Emails]],"") | I13: =IF(Tabelle1[[#This Row],[N° téléphone]]<>"",Tabelle1[[#This Row],[N° téléphone]],"") | J13: =IF(Tabelle1[[#This Row],[N°portable]]<>"",Tabelle1[[#This Row],[N°portable]],"")
... A149: =IF(Tabelle1[[#This Row],[Clé utilisateur]]<>"",Tabelle1[[#This Row],[Clé utilisateur]],"") -> #VALUE! | C149: =IF(Tabelle1[[#This Row],[Nom]]<>"",Tabelle1[[#This Row],[Nom]],"") -> #VALUE! | D149: =IF(Tabelle1[[#This Row],[Prénom]]<>"",Tabelle1[[#This Row],[Prénom]],"") -> #VALUE! | E149: =IF(Tabelle1[[#This Row],[Organisation]]<>"",_xlfn.XLOOKUP(Tabelle1[[#This Row],[Organisation]],'Export organisations'!$B:$B,'Export organisations'!$A:$A,"",0,1),"") -> #VALUE! | F149: =_xlfn.TEXTJOIN("|",TRUE,IF(Tabelle1[[#This Row],[Fonction 1]]<>"",_xlfn.XLOOKUP(Tabelle1[[#This Row],[Organisation]],'Export organisations'!$B:$B,'Export organisations'!$A:$A,"",0,1)&":"&_xlfn.XLOOKUP(Tabelle1[[#This Row],[Fonction 1]],'Export fonctions'!B:B,'Export fonctions'!A:A,"",0,1),""),IF(Tabelle1[[#This Row],[Fonction 2]]<>"",_xlfn.XLOOKUP(Tabelle1[[#This Row],[Organisation]],'Export organisations'!$B:$B,'Export organisations'!$A:$A,"",0,1)&":"&_xlfn.XLOOKUP(Tabelle1[[#This Row],[Fonction 2]],'Export fonctions'!B:B,'Export fonctions'!A:A,"",0,1),""),IF(Tabelle1[[#This Row],[Fonction 3]]<>"",_xlfn.XLOOKUP(Tabelle1[[#This Row],[Organisation]],'Export organisations'!$B:$B,'Export organisations'!$A:$A,"",0,1)&":"&_xlfn.XLOOKUP(Tabelle1[[#This Row],[Fonction 3]],'Export fonctions'!B:B,'Export fonctions'!A:A,"",0,1),""),IF(Tabelle1[[#This Row],[Fonction 4]]<>"",_xlfn.XLOOKUP(Tabelle1[[#This Row],[Organisation]],'Export organisations'!$B:$B,'Export organisations'!$A:$A,"",0,1)&":"&_xlfn.XLOOKUP(Tabelle1[[#This Row],[Fonction 4]],'Export fonctions'!B:B,'Export fonctions'!A:A,"",0,1),""),IF(Tabelle1[[#This Row],[Fonction 5]]<>"",_xlfn.XLOOKUP(Tabelle1[[#This Row],[Organisation]],'Export organisations'!$B:$B,'Export organisations'!$A:$A,"",0,1)&":"&_xlfn.XLOOKUP(Tabelle1[[#This Row],[Fonction 5]],'Export fonctions'!B:B,'Export fonctions'!A:A,"",0,1),"")) -> #VALUE! | G149: =IF(Tabelle1[[#This Row],[Identidé (adresse email Login)]]<>"",Tabelle1[[#This Row],[Identidé (adresse email Login)]],"") -> #VALUE! | H149: =IF(Tabelle1[[#This Row],[Emails]]<>"",Tabelle1[[#This Row],[Emails]],"") -> #VALUE! | I149: =IF(Tabelle1[[#This Row],[N° téléphone]]<>"",Tabelle1[[#This Row],[N° téléphone]],"") -> #VALUE! | J149: =IF(Tabelle1[[#This Row],[N°portable]]<>"",Tabelle1[[#This Row],[N°portable]],"") -> #VALUE!
A150: =IF(Tabelle1[[#This Row],[Clé utilisateur]]<>"",Tabelle1[[#This Row],[Clé utilisateur]],"") -> #VALUE! | C150: =IF(Tabelle1[[#This Row],[Nom]]<>"",Tabelle1[[#This Row],[Nom]],"") -> #VALUE! | D150: =IF(Tabelle1[[#This Row],[Prénom]]<>"",Tabelle1[[#This Row],[Prénom]],"") -> #VALUE! | E150: =IF(Tabelle1[[#This Row],[Organisation]]<>"",_xlfn.XLOOKUP(Tabelle1[[#This Row],[Organisation]],'Export organisations'!$B:$B,'Export organisations'!$A:$A,"",0,1),"") -> #VALUE! | F150: =JOINDRE.TEXTE("|";VRAI;SI(Tabelle1[@[Fonction 1]]<>"";RECHERCHEX(Tabelle1[@Organisation];'Export organisations'!$B:$B;'Export organisations'!$A:$A;"";0;1)&":"&RECHERCHEX(Tabelle1[@[Fonction 1]];'Export fonctions'!B:B;'Export fonctions'!A:A;"";0;1);"");SI(Tabelle1[@[Fonction 2]]<>"";RECHERCHEX(Tabelle1[@Organisation];'Export organisations'!$B:$B;'Export organisations'!$A:$A;"";0;1)&":"&RECHERCHEX(Tabelle1[@[Fonction 2]];'Export fonctions'!B:B;'Export fonctions'!A:A;"";0;1);"");SI(Tabelle1[@[Fonction 3]]<>"";RECHERCHEX(Tabelle1[@Organisation];'Export organisations'!$B:$B;'Export organisations'!$A:$A;"";0;1)&":"&RECHERCHEX(Tabelle1[@[Fonction 3]];'Export fonctions'!B:B;'Export fonctions'!A:A;"";0;1);"");SI(Tabelle1[@[Fonction 4]]<>"";RECHERCHEX(Tabelle1[@Organisation];'Export organisations'!$B:$B;'Export organisations'!$A:$A;"";0;1)&":"&RECHERCHEX(Tabelle1[@[Fonction 4]];'Export fonctions'!B:B;'Export fonctions'!A:A;"";0;1);"");SI(Tabelle1[@[Fonction 5]]<>"";RECHERCHEX(Tabelle1[@Organisation];'Export organisations'!$B:$B;'Export organisations'!$A:$A;"";0;1)&":"&RECHERCHEX(Tabelle1[@[Fonction 5]];'Export fonctions'!B:B;'Export fonctions'!A:A;"";0;1);"")) | G150: =IF(Tabelle1[[#This Row],[Identidé (adresse email Login)]]<>"",Tabelle1[[#This Row],[Identidé (adresse email Login)]],"") -> #VALUE! | H150: =IF(Tabelle1[[#This Row],[Emails]]<>"",Tabelle1[[#This Row],[Emails]],"") -> #VALUE! | I150: =IF(Tabelle1[[#This Row],[N° téléphone]]<>"",Tabelle1[[#This Row],[N° téléphone]],"") -> #VALUE! | J150: =IF(Tabelle1[[#This Row],[N°portable]]<>"",Tabelle1[[#This Row],[N°portable]],"") -> #VALUE!

Sheet Export fonctions
A1: GUID | B1: RollennameDE | C1: RollennameFR
A3: 9bed7994-09db-4c6f-a42d-1983e9d3420e | B3: Applikationsverantwortliche Kanton | C3: Responsable d'application canton
A4: d4490669-366e-4ac7-9b73-eb210da9a36f | B4: Super User Organisation | C4: Super User organisation
